BEGIN:VCALENDAR
VERSION:2.0
PRODID:-//The Bridges at Springtree Golf Club - ECPv6.15.18//NONSGML v1.0//EN
CALSCALE:GREGORIAN
METHOD:PUBLISH
X-WR-CALNAME:The Bridges at Springtree Golf Club
X-ORIGINAL-URL:https://www.springtreegc.com
X-WR-CALDESC:Events for The Bridges at Springtree Golf Club
REFRESH-INTERVAL;VALUE=DURATION:PT1H
X-Robots-Tag:noindex
X-PUBLISHED-TTL:PT1H
BEGIN:VTIMEZONE
TZID:America/New_York
BEGIN:DAYLIGHT
TZOFFSETFROM:-0500
TZOFFSETTO:-0400
TZNAME:EDT
DTSTART:20230312T070000
END:DAYLIGHT
BEGIN:STANDARD
TZOFFSETFROM:-0400
TZOFFSETTO:-0500
TZNAME:EST
DTSTART:20231105T060000
END:STANDARD
BEGIN:DAYLIGHT
TZOFFSETFROM:-0500
TZOFFSETTO:-0400
TZNAME:EDT
DTSTART:20240310T070000
END:DAYLIGHT
BEGIN:STANDARD
TZOFFSETFROM:-0400
TZOFFSETTO:-0500
TZNAME:EST
DTSTART:20241103T060000
END:STANDARD
BEGIN:DAYLIGHT
TZOFFSETFROM:-0500
TZOFFSETTO:-0400
TZNAME:EDT
DTSTART:20250309T070000
END:DAYLIGHT
BEGIN:STANDARD
TZOFFSETFROM:-0400
TZOFFSETTO:-0500
TZNAME:EST
DTSTART:20251102T060000
END:STANDARD
BEGIN:DAYLIGHT
TZOFFSETFROM:-0500
TZOFFSETTO:-0400
TZNAME:EDT
DTSTART:20260308T070000
END:DAYLIGHT
BEGIN:STANDARD
TZOFFSETFROM:-0400
TZOFFSETTO:-0500
TZNAME:EST
DTSTART:20261101T060000
END:STANDARD
BEGIN:DAYLIGHT
TZOFFSETFROM:-0500
TZOFFSETTO:-0400
TZNAME:EDT
DTSTART:20270314T070000
END:DAYLIGHT
BEGIN:STANDARD
TZOFFSETFROM:-0400
TZOFFSETTO:-0500
TZNAME:EST
DTSTART:20271107T060000
END:STANDARD
END:VTIMEZONE
BEGIN:VEVENT
DTSTART;VALUE=DATE:20260516
DTEND;VALUE=DATE:20260517
DTSTAMP:20260425T141815
CREATED:20260327T142122Z
LAST-MODIFIED:20260327T142122Z
UID:1118-1778889600-1778975999@www.springtreegc.com
SUMMARY:Tournament closed all day
DESCRIPTION:
URL:https://www.springtreegc.com/event/tournament-closed-all-day/
END:VEVENT
BEGIN:VEVENT
DTSTART;TZID=America/New_York:20260425T120000
DTEND;TZID=America/New_York:20260425T120000
DTSTAMP:20260425T141815
CREATED:20260327T142049Z
LAST-MODIFIED:20260327T142049Z
UID:1116-1777118400-1777118400@www.springtreegc.com
SUMMARY:Tournament until 12:00pm
DESCRIPTION:
URL:https://www.springtreegc.com/event/tournament-until-1200pm-2/
END:VEVENT
BEGIN:VEVENT
DTSTART;TZID=America/New_York:20260424T123000
DTEND;TZID=America/New_York:20260424T123000
DTSTAMP:20260425T141815
CREATED:20260327T142018Z
LAST-MODIFIED:20260327T142018Z
UID:1114-1777033800-1777033800@www.springtreegc.com
SUMMARY:Tournament until 12:30pm
DESCRIPTION:
URL:https://www.springtreegc.com/event/tournament-until-1230pm/
END:VEVENT
BEGIN:VEVENT
DTSTART;TZID=America/New_York:20260418T113000
DTEND;TZID=America/New_York:20260418T113000
DTSTAMP:20260425T141815
CREATED:20260327T141948Z
LAST-MODIFIED:20260327T141948Z
UID:1112-1776511800-1776511800@www.springtreegc.com
SUMMARY:Tournament until 11:30am
DESCRIPTION:
URL:https://www.springtreegc.com/event/tournament-until-1130am/
END:VEVENT
BEGIN:VEVENT
DTSTART;TZID=America/New_York:20260411T110000
DTEND;TZID=America/New_York:20260411T110000
DTSTAMP:20260425T141815
CREATED:20260327T141916Z
LAST-MODIFIED:20260327T141916Z
UID:1110-1775905200-1775905200@www.springtreegc.com
SUMMARY:Tournament until 11:00am
DESCRIPTION:
URL:https://www.springtreegc.com/event/tournament-until-1100am-2/
END:VEVENT
BEGIN:VEVENT
DTSTART;TZID=America/New_York:20260404T120000
DTEND;TZID=America/New_York:20260404T120000
DTSTAMP:20260425T141815
CREATED:20260327T141827Z
LAST-MODIFIED:20260327T141827Z
UID:1108-1775304000-1775304000@www.springtreegc.com
SUMMARY:Tournament until 12:00pm
DESCRIPTION:
URL:https://www.springtreegc.com/event/tournament-until-1200pm/
END:VEVENT
BEGIN:VEVENT
DTSTART;TZID=America/New_York:20260330T110000
DTEND;TZID=America/New_York:20260330T110000
DTSTAMP:20260425T141815
CREATED:20260327T141648Z
LAST-MODIFIED:20260327T141745Z
UID:1106-1774868400-1774868400@www.springtreegc.com
SUMMARY:Tournament until 11:00am
DESCRIPTION:
URL:https://www.springtreegc.com/event/tournament-until-1100am/
END:VEVENT
BEGIN:VEVENT
DTSTART;TZID=America/New_York:20251225T140000
DTEND;TZID=America/New_York:20251225T140000
DTSTAMP:20260425T141815
CREATED:20251219T172106Z
LAST-MODIFIED:20251219T172452Z
UID:1087-1766671200-1766671200@www.springtreegc.com
SUMMARY:Course will close at 2pm
DESCRIPTION:The course will close at 2 pm
URL:https://www.springtreegc.com/event/course-will-close-at-2pm/
ATTACH;FMTTYPE=image/png:https://www.springtreegc.com/wp-content/uploads/sites/6854/2025/12/Bridges-course-close-on-December25.png
END:VEVENT
BEGIN:VEVENT
DTSTART;VALUE=DATE:20251115
DTEND;VALUE=DATE:20251116
DTSTAMP:20260425T141815
CREATED:20251114T192514Z
LAST-MODIFIED:20251114T192514Z
UID:1080-1763164800-1763251199@www.springtreegc.com
SUMMARY:Course Close (Private golf tournament)
DESCRIPTION:Course closed tomorrow 11-15-2025\, for a private golf tournament.
URL:https://www.springtreegc.com/event/course-close-private-golf-tournament/
END:VEVENT
BEGIN:VEVENT
DTSTART;VALUE=DATE:20250811
DTEND;VALUE=DATE:20250812
DTSTAMP:20260425T141815
CREATED:20250731T183237Z
LAST-MODIFIED:20250731T183237Z
UID:1064-1754870400-1754956799@www.springtreegc.com
SUMMARY:Course Closed for Aerification
DESCRIPTION:
URL:https://www.springtreegc.com/event/course-closed-for-aerification-2/
END:VEVENT
BEGIN:VEVENT
DTSTART;TZID=America/New_York:20250721T080000
DTEND;TZID=America/New_York:20250721T103000
DTSTAMP:20260425T141815
CREATED:20250616T124316Z
LAST-MODIFIED:20250616T124442Z
UID:1053-1753084800-1753093800@www.springtreegc.com
SUMMARY:Junior Golf Tournament
DESCRIPTION:
URL:https://www.springtreegc.com/event/junior-golf-tournament/
END:VEVENT
BEGIN:VEVENT
DTSTART;VALUE=DATE:20250603
DTEND;VALUE=DATE:20250604
DTSTAMP:20260425T141815
CREATED:20250420T144952Z
LAST-MODIFIED:20250420T144952Z
UID:1040-1748908800-1748995199@www.springtreegc.com
SUMMARY:9 Holes Open Due to Aerification
DESCRIPTION:June 3rd\, 2025\, we will only have 9 holes open due to aerification.
URL:https://www.springtreegc.com/event/9-holes-open-due-to-aerification/
END:VEVENT
BEGIN:VEVENT
DTSTART;VALUE=DATE:20250602
DTEND;VALUE=DATE:20250603
DTSTAMP:20260425T141815
CREATED:20250420T144717Z
LAST-MODIFIED:20250420T144717Z
UID:1039-1748822400-1748908799@www.springtreegc.com
SUMMARY:Aerification
DESCRIPTION:Closed on June 2\,2025 for aerification
URL:https://www.springtreegc.com/event/aerification/
END:VEVENT
BEGIN:VEVENT
DTSTART;VALUE=DATE:20250503
DTEND;VALUE=DATE:20250504
DTSTAMP:20260425T141815
CREATED:20250420T144650Z
LAST-MODIFIED:20250420T144650Z
UID:1038-1746230400-1746316799@www.springtreegc.com
SUMMARY:Private Tournament
DESCRIPTION:Closed for a Private Tournament on May 3rd\, 2025
URL:https://www.springtreegc.com/event/private-tournament-14/
END:VEVENT
BEGIN:VEVENT
DTSTART;TZID=America/New_York:20250426T113000
DTEND;TZID=America/New_York:20250426T113000
DTSTAMP:20260425T141815
CREATED:20250420T144553Z
LAST-MODIFIED:20250420T144553Z
UID:1037-1745667000-1745667000@www.springtreegc.com
SUMMARY:Private Tournament
DESCRIPTION:April 26th\, 2025 Closed for a Private Tournament until 11:30am
URL:https://www.springtreegc.com/event/private-tournament-13/
END:VEVENT
BEGIN:VEVENT
DTSTART;TZID=America/New_York:20250425T120000
DTEND;TZID=America/New_York:20250425T120000
DTSTAMP:20260425T141815
CREATED:20250420T144508Z
LAST-MODIFIED:20250420T144508Z
UID:1036-1745582400-1745582400@www.springtreegc.com
SUMMARY:Private Tournament
DESCRIPTION:April 25th\, 2025 \nClosed for a Private Tournament until 12:00pm
URL:https://www.springtreegc.com/event/private-tournament-12/
END:VEVENT
BEGIN:VEVENT
DTSTART;VALUE=DATE:20241026
DTEND;VALUE=DATE:20241027
DTSTAMP:20260425T141815
CREATED:20240907T144420Z
LAST-MODIFIED:20240907T144420Z
UID:1006-1729900800-1729987199@www.springtreegc.com
SUMMARY:Private Tournament
DESCRIPTION:
URL:https://www.springtreegc.com/event/private-tournament-11/
END:VEVENT
BEGIN:VEVENT
DTSTART;VALUE=DATE:20241019
DTEND;VALUE=DATE:20241020
DTSTAMP:20260425T141815
CREATED:20240907T144405Z
LAST-MODIFIED:20240907T144405Z
UID:1005-1729296000-1729382399@www.springtreegc.com
SUMMARY:Monthly Scramble – Call now to sign up!
DESCRIPTION:
URL:https://www.springtreegc.com/event/monthly-scramble-call-now-to-sign-up-2/
END:VEVENT
BEGIN:VEVENT
DTSTART;VALUE=DATE:20241012
DTEND;VALUE=DATE:20241013
DTSTAMP:20260425T141815
CREATED:20240907T144348Z
LAST-MODIFIED:20240907T144348Z
UID:1004-1728691200-1728777599@www.springtreegc.com
SUMMARY:Private Tournament
DESCRIPTION:
URL:https://www.springtreegc.com/event/private-tournament-10/
END:VEVENT
BEGIN:VEVENT
DTSTART;VALUE=DATE:20241010
DTEND;VALUE=DATE:20241011
DTSTAMP:20260425T141815
CREATED:20240907T144340Z
LAST-MODIFIED:20240907T144340Z
UID:1003-1728518400-1728604799@www.springtreegc.com
SUMMARY:Private Tournament
DESCRIPTION:
URL:https://www.springtreegc.com/event/private-tournament-9/
END:VEVENT
BEGIN:VEVENT
DTSTART;TZID=America/New_York:20241005T100000
DTEND;TZID=America/New_York:20241005T130000
DTSTAMP:20260425T141815
CREATED:20240907T144325Z
LAST-MODIFIED:20240907T144325Z
UID:1002-1728122400-1728133200@www.springtreegc.com
SUMMARY:Open House from 10:00am – 1:00pm – Stop by!
DESCRIPTION:
URL:https://www.springtreegc.com/event/open-house-from-1000am-100pm-stop-by/
END:VEVENT
BEGIN:VEVENT
DTSTART;VALUE=DATE:20240928
DTEND;VALUE=DATE:20240929
DTSTAMP:20260425T141815
CREATED:20240907T144248Z
LAST-MODIFIED:20240907T144248Z
UID:1001-1727481600-1727567999@www.springtreegc.com
SUMMARY:Monthly Scramble – Call now to sign up!
DESCRIPTION:
URL:https://www.springtreegc.com/event/monthly-scramble-call-now-to-sign-up/
END:VEVENT
BEGIN:VEVENT
DTSTART;VALUE=DATE:20240914
DTEND;VALUE=DATE:20240915
DTSTAMP:20260425T141815
CREATED:20240907T144226Z
LAST-MODIFIED:20240907T144226Z
UID:1000-1726272000-1726358399@www.springtreegc.com
SUMMARY:Private Tournament
DESCRIPTION:
URL:https://www.springtreegc.com/event/private-tournament-8/
END:VEVENT
BEGIN:VEVENT
DTSTART;VALUE=DATE:20240504
DTEND;VALUE=DATE:20240505
DTSTAMP:20260425T141815
CREATED:20240205T161319Z
LAST-MODIFIED:20240205T161319Z
UID:937-1714780800-1714867199@www.springtreegc.com
SUMMARY:Private Tournament
DESCRIPTION:
URL:https://www.springtreegc.com/event/private-tournament-6/
CATEGORIES:Private Event
END:VEVENT
BEGIN:VEVENT
DTSTART;TZID=America/New_York:20240426T080000
DTEND;TZID=America/New_York:20240426T170000
DTSTAMP:20260425T141815
CREATED:20240205T161234Z
LAST-MODIFIED:20240205T161234Z
UID:935-1714118400-1714150800@www.springtreegc.com
SUMMARY:Private Tournament
DESCRIPTION:
URL:https://www.springtreegc.com/event/private-tournament-5/
CATEGORIES:Private Event
END:VEVENT
BEGIN:VEVENT
DTSTART;VALUE=DATE:20240420
DTEND;VALUE=DATE:20240421
DTSTAMP:20260425T141815
CREATED:20240205T161412Z
LAST-MODIFIED:20240205T161412Z
UID:939-1713571200-1713657599@www.springtreegc.com
SUMMARY:Private Tournament
DESCRIPTION:
URL:https://www.springtreegc.com/event/private-tournament-7/
CATEGORIES:Private Event
END:VEVENT
BEGIN:VEVENT
DTSTART;VALUE=DATE:20240413
DTEND;VALUE=DATE:20240414
DTSTAMP:20260425T141815
CREATED:20240205T161145Z
LAST-MODIFIED:20240205T161145Z
UID:933-1712966400-1713052799@www.springtreegc.com
SUMMARY:Private Tournament
DESCRIPTION:
URL:https://www.springtreegc.com/event/private-tournament-4/
CATEGORIES:Private Event
END:VEVENT
BEGIN:VEVENT
DTSTART;VALUE=DATE:20240406
DTEND;VALUE=DATE:20240407
DTSTAMP:20260425T141815
CREATED:20240205T161112Z
LAST-MODIFIED:20240205T161112Z
UID:931-1712361600-1712447999@www.springtreegc.com
SUMMARY:Private Tournament
DESCRIPTION:
URL:https://www.springtreegc.com/event/private-tournament-3/
CATEGORIES:Private Event
END:VEVENT
BEGIN:VEVENT
DTSTART;VALUE=DATE:20240322
DTEND;VALUE=DATE:20240323
DTSTAMP:20260425T141815
CREATED:20240205T161048Z
LAST-MODIFIED:20240205T161048Z
UID:929-1711065600-1711151999@www.springtreegc.com
SUMMARY:Nine & Dine
DESCRIPTION:
URL:https://www.springtreegc.com/event/nine-dine-2/
CATEGORIES:Open to Public
END:VEVENT
BEGIN:VEVENT
DTSTART;VALUE=DATE:20240316
DTEND;VALUE=DATE:20240317
DTSTAMP:20260425T141815
CREATED:20240205T161032Z
LAST-MODIFIED:20240205T161032Z
UID:927-1710547200-1710633599@www.springtreegc.com
SUMMARY:Monthly Scramble
DESCRIPTION:
URL:https://www.springtreegc.com/event/monthly-scramble-2/
CATEGORIES:Open to Public
END:VEVENT
END:VCALENDAR